BEGIN:VCALENDAR
VERSION:2.0
PRODID:-//Hurdegaryp - ECPv6.15.17.1//NONSGML v1.0//EN
CALSCALE:GREGORIAN
METHOD:PUBLISH
X-WR-CALNAME:Hurdegaryp
X-ORIGINAL-URL:https://hurdegaryp.nl
X-WR-CALDESC:Evenementen voor Hurdegaryp
REFRESH-INTERVAL;VALUE=DURATION:PT1H
X-Robots-Tag:noindex
X-PUBLISHED-TTL:PT1H
BEGIN:VTIMEZONE
TZID:Europe/Amsterdam
BEGIN:DAYLIGHT
TZOFFSETFROM:+0100
TZOFFSETTO:+0200
TZNAME:CEST
DTSTART:20250330T010000
END:DAYLIGHT
BEGIN:STANDARD
TZOFFSETFROM:+0200
TZOFFSETTO:+0100
TZNAME:CET
DTSTART:20251026T010000
END:STANDARD
BEGIN:DAYLIGHT
TZOFFSETFROM:+0100
TZOFFSETTO:+0200
TZNAME:CEST
DTSTART:20260329T010000
END:DAYLIGHT
BEGIN:STANDARD
TZOFFSETFROM:+0200
TZOFFSETTO:+0100
TZNAME:CET
DTSTART:20261025T010000
END:STANDARD
BEGIN:DAYLIGHT
TZOFFSETFROM:+0100
TZOFFSETTO:+0200
TZNAME:CEST
DTSTART:20270328T010000
END:DAYLIGHT
BEGIN:STANDARD
TZOFFSETFROM:+0200
TZOFFSETTO:+0100
TZNAME:CET
DTSTART:20271031T010000
END:STANDARD
END:VTIMEZONE
BEGIN:VEVENT
DTSTART;TZID=Europe/Amsterdam:20260220T090000
DTEND;TZID=Europe/Amsterdam:20260417T130000
DTSTAMP:20260420T175859
CREATED:20250710T171230Z
LAST-MODIFIED:20260405T201324Z
UID:719-1771578000-1776430800@hurdegaryp.nl
SUMMARY:Jouke van der Zee\, schilderijen
DESCRIPTION:Bekijk dit evenement op de website van It Maskelyn \n \nBERTEPLAK \n…Smûk skaadzjend beamtegrien oeral yn ’t rûn… \nDe Friese taal en de natuur in één zin gevat. Dat is mijn basis. Al vanaf de eerste penseelstreken\, heb ik mij toegelegd op het vastleggen van weidse taferelen. Stillevens en portretten maak ik ook graag\, maar de lokroep van de natuur is onweerstaanbaar. \nDe Friese taal is bijzonder rijk aan woorden en uitdrukkingen om de natuur in woorden te vangen. De Wâldsang is hiervan een voorbeeld. Tijdens het schilderen komt vaak spontaan een wijsje in mijn hoofd\, dat de hele tijd blijft rondhangen en mij vanzelf voortdrijft. \nDe natuur en de Friese taal zijn onuitputtelijke bronnen van inspiratie. Maar bovenal laat het mij thuiskomen. \nOpeningstijden \nOp maandag t/m vrijdag van 09.00 uur tot 13.00 uur geopend.\nOp maandag t/m vrijdag vanaf 13.00 uur alleen bij activiteiten geopend.\nOp zaterdag en zondag alleen bij activiteiten geopend.
URL:https://hurdegaryp.nl/evenement/jouke-van-der-zee-schilderijen/
LOCATION:MFC It Maskelyn\, Easter Omwei 5\, Hurdegaryp\, Friesland\, 9254CE\, Netherlands
ATTACH;FMTTYPE=image/jpeg:https://hurdegaryp.nl/wp-content/uploads/2026/04/Jouke-van-der-Zee-schilderijen-1775419427.jpg
END:VEVENT
BEGIN:VEVENT
DTSTART;TZID=Europe/Amsterdam:20260427T100000
DTEND;TZID=Europe/Amsterdam:20260427T170000
DTSTAMP:20260420T175859
CREATED:20250708T115651Z
LAST-MODIFIED:20260405T201645Z
UID:727-1777284000-1777309200@hurdegaryp.nl
SUMMARY:Koningsdag
DESCRIPTION:Bekijk dit evenement op de website van It Maskelyn
URL:https://hurdegaryp.nl/evenement/koningsdag-2/
LOCATION:MFC It Maskelyn\, Easter Omwei 5\, Hurdegaryp\, Friesland\, 9254CE\, Netherlands
ATTACH;FMTTYPE=image/jpeg:https://hurdegaryp.nl/wp-content/uploads/2026/04/Koningsdag-1775419430.jpg
END:VEVENT
BEGIN:VEVENT
DTSTART;TZID=Europe/Amsterdam:20260505T190000
DTEND;TZID=Europe/Amsterdam:20260505T190000
DTSTAMP:20260420T175859
CREATED:20260331T131637Z
LAST-MODIFIED:20260410T101523Z
UID:533-1778007600-1778007600@hurdegaryp.nl
SUMMARY:Start competitie
DESCRIPTION:
URL:https://hurdegaryp.nl/evenement/start-competitie/
LOCATION:Sportpark De Warren\, Jintewarren 6\, Hurdegaryp\, 9254GA
ATTACH;FMTTYPE=image/jpeg:https://hurdegaryp.nl/wp-content/uploads/2026/03/Start-competitie-1774971740.jpg
END:VEVENT
BEGIN:VEVENT
DTSTART;TZID=Europe/Amsterdam:20260530T200000
DTEND;TZID=Europe/Amsterdam:20260530T220000
DTSTAMP:20260420T175859
CREATED:20260108T081903Z
LAST-MODIFIED:20260405T201505Z
UID:730-1780171200-1780178400@hurdegaryp.nl
SUMMARY:Rasti Rostelli
DESCRIPTION:Bekijk dit evenement op de website van It Maskelyn \n \nRasti Rostelli\, dé hypnose sensatie van Nederland! Al meer dan 40 jaar is Rasti Rostelli dé hypnose sensatie van Nederland en België. Nu heb jij op 30 mei de kans om deze meester van hypnose live in actie te zien in het MFC It Maskelyn\, Hurdegaryp. \nIn zijn hypnoseshow laat Rasti Rostelli zien dat niet alleen hijzelf\, maar vooral ook elke toeschouwer in de zaal deze krachten bezit. Iedere vrijwilliger die zich op het podium begeeft wordt daardoor in feite één van de werkelijke artiesten van de avond! \nBestel hier je kaarten\nBestel je kaarten met de https://www.rastirostelli.nl/show/rasti-rostelli-30-mei-hurdegaryp/ en beleef een onvergetelijke avond vol plezier en mysterie!
URL:https://hurdegaryp.nl/evenement/rasti-rostelli-2/
LOCATION:MFC It Maskelyn\, Easter Omwei 5\, Hurdegaryp\, Friesland\, 9254CE\, Netherlands
ATTACH;FMTTYPE=image/png:https://hurdegaryp.nl/wp-content/uploads/2026/04/Rasti-Rostelli-1775419430.png
END:VEVENT
BEGIN:VEVENT
DTSTART;TZID=Europe/Amsterdam:20260619T180000
DTEND;TZID=Europe/Amsterdam:20260619T180000
DTSTAMP:20260420T175859
CREATED:20260331T083246Z
LAST-MODIFIED:20260331T154737Z
UID:537-1781892000-1781892000@hurdegaryp.nl
SUMMARY:Ledenpartij Oase
DESCRIPTION:
URL:https://hurdegaryp.nl/evenement/ledenpartij-oase/
LOCATION:De Warren\, Hurdegaryp
ATTACH;FMTTYPE=image/jpeg:https://hurdegaryp.nl/wp-content/uploads/2026/03/Start-competitie-1774971740.jpg
END:VEVENT
BEGIN:VEVENT
DTSTART;TZID=Europe/Amsterdam:20260816T100000
DTEND;TZID=Europe/Amsterdam:20260816T100000
DTSTAMP:20260420T175859
CREATED:20260331T083421Z
LAST-MODIFIED:20260331T154738Z
UID:539-1786874400-1786874400@hurdegaryp.nl
SUMMARY:Ledenpartij ’t Fiskhûs
DESCRIPTION:
URL:https://hurdegaryp.nl/evenement/ledenpartij-t-fiskhus/
LOCATION:De Warren\, Hurdegaryp
ATTACH;FMTTYPE=image/jpeg:https://hurdegaryp.nl/wp-content/uploads/2026/03/Start-competitie-1774971740.jpg
END:VEVENT
BEGIN:VEVENT
DTSTART;TZID=Europe/Amsterdam:20260906T100000
DTEND;TZID=Europe/Amsterdam:20260906T100000
DTSTAMP:20260420T175859
CREATED:20260331T083545Z
LAST-MODIFIED:20260331T154739Z
UID:541-1788688800-1788688800@hurdegaryp.nl
SUMMARY:Ledenpartij Van Os
DESCRIPTION:
URL:https://hurdegaryp.nl/evenement/ledenpartij-van-os/
LOCATION:De Warren\, Hurdegaryp
ATTACH;FMTTYPE=image/jpeg:https://hurdegaryp.nl/wp-content/uploads/2026/03/Start-competitie-1774971740.jpg
END:VEVENT
END:VCALENDAR