BEGIN:VCALENDAR
VERSION:2.0
PRODID:-//Hurdegaryp - ECPv6.15.17.1//NONSGML v1.0//EN
CALSCALE:GREGORIAN
METHOD:PUBLISH
X-WR-CALNAME:Hurdegaryp
X-ORIGINAL-URL:https://hurdegaryp.nl
X-WR-CALDESC:Evenementen voor Hurdegaryp
REFRESH-INTERVAL;VALUE=DURATION:PT1H
X-Robots-Tag:noindex
X-PUBLISHED-TTL:PT1H
BEGIN:VTIMEZONE
TZID:Europe/Amsterdam
BEGIN:DAYLIGHT
TZOFFSETFROM:+0100
TZOFFSETTO:+0200
TZNAME:CEST
DTSTART:20250330T010000
END:DAYLIGHT
BEGIN:STANDARD
TZOFFSETFROM:+0200
TZOFFSETTO:+0100
TZNAME:CET
DTSTART:20251026T010000
END:STANDARD
BEGIN:DAYLIGHT
TZOFFSETFROM:+0100
TZOFFSETTO:+0200
TZNAME:CEST
DTSTART:20260329T010000
END:DAYLIGHT
BEGIN:STANDARD
TZOFFSETFROM:+0200
TZOFFSETTO:+0100
TZNAME:CET
DTSTART:20261025T010000
END:STANDARD
BEGIN:DAYLIGHT
TZOFFSETFROM:+0100
TZOFFSETTO:+0200
TZNAME:CEST
DTSTART:20270328T010000
END:DAYLIGHT
BEGIN:STANDARD
TZOFFSETFROM:+0200
TZOFFSETTO:+0100
TZNAME:CET
DTSTART:20271031T010000
END:STANDARD
END:VTIMEZONE
BEGIN:VEVENT
DTSTART;TZID=Europe/Amsterdam:20260606T100000
DTEND;TZID=Europe/Amsterdam:20260606T200000
DTSTAMP:20260423T233307
CREATED:20260422T151536Z
LAST-MODIFIED:20260422T151536Z
UID:937-1780740000-1780776000@hurdegaryp.nl
SUMMARY:One Point Tournament (TV Galefjild)
DESCRIPTION:Goed nieuws voor alle tennisliefhebbers! Na een geweldige primeur afgelopen jaar kijken we enorm uit naar de tweede editie van het One Point Tournament. \nDe inschrijving voor het tweede officiële Wierenga & de Graaf One Point Tournament is officieel geopend! \n🕙 Zaterdag 6 juni 2026\n📍 Locatie: T.V. Galefjild in Hardegarijp\n💰 €10 inschrijfgeld (toegang is GRATIS)\n🎾 1 punt per wedstrijd\n🏆 Winnaars gaan door naar volgende ronde (afvalschema 256)\n💸 Maar liefst €10.000 voor de winnaar (dus 8 puntjes op rij winnen en je bent er!) \nInmiddels is de inschrijving geopend en die gaat hard dus wees er snel bij! Inschrijven kan via: \nhttps://www.onepointtournament.nl/inschrijven/ \n  \nhttps://hurdegaryp.nl/wp-content/uploads/2026/04/OPT-aankondiging.mp4
URL:https://hurdegaryp.nl/evenement/one-point-tournament-tv-galefjild/
CATEGORIES:Evenement
END:VEVENT
END:VCALENDAR