BEGIN:VCALENDAR
VERSION:2.0
PRODID:-//Hurdegaryp - ECPv6.15.17.1//NONSGML v1.0//EN
CALSCALE:GREGORIAN
METHOD:PUBLISH
X-WR-CALNAME:Hurdegaryp
X-ORIGINAL-URL:https://hurdegaryp.nl
X-WR-CALDESC:Evenementen voor Hurdegaryp
REFRESH-INTERVAL;VALUE=DURATION:PT1H
X-Robots-Tag:noindex
X-PUBLISHED-TTL:PT1H
BEGIN:VTIMEZONE
TZID:Europe/Amsterdam
BEGIN:DAYLIGHT
TZOFFSETFROM:+0100
TZOFFSETTO:+0200
TZNAME:CEST
DTSTART:20250330T010000
END:DAYLIGHT
BEGIN:STANDARD
TZOFFSETFROM:+0200
TZOFFSETTO:+0100
TZNAME:CET
DTSTART:20251026T010000
END:STANDARD
BEGIN:DAYLIGHT
TZOFFSETFROM:+0100
TZOFFSETTO:+0200
TZNAME:CEST
DTSTART:20260329T010000
END:DAYLIGHT
BEGIN:STANDARD
TZOFFSETFROM:+0200
TZOFFSETTO:+0100
TZNAME:CET
DTSTART:20261025T010000
END:STANDARD
BEGIN:DAYLIGHT
TZOFFSETFROM:+0100
TZOFFSETTO:+0200
TZNAME:CEST
DTSTART:20270328T010000
END:DAYLIGHT
BEGIN:STANDARD
TZOFFSETFROM:+0200
TZOFFSETTO:+0100
TZNAME:CET
DTSTART:20271031T010000
END:STANDARD
END:VTIMEZONE
BEGIN:VEVENT
DTSTART;TZID=Europe/Amsterdam:20260505T190000
DTEND;TZID=Europe/Amsterdam:20260505T190000
DTSTAMP:20260420T174654
CREATED:20260331T131637Z
LAST-MODIFIED:20260410T101523Z
UID:533-1778007600-1778007600@hurdegaryp.nl
SUMMARY:Start competitie
DESCRIPTION:
URL:https://hurdegaryp.nl/evenement/start-competitie/
LOCATION:Sportpark De Warren\, Jintewarren 6\, Hurdegaryp\, 9254GA
ATTACH;FMTTYPE=image/jpeg:https://hurdegaryp.nl/wp-content/uploads/2026/03/Start-competitie-1774971740.jpg
END:VEVENT
END:VCALENDAR